BEGIN:VCALENDAR
VERSION:2.0
PRODID:-//Skeivå - Rogaland Pride - ECPv6.15.17.1//NONSGML v1.0//EN
CALSCALE:GREGORIAN
METHOD:PUBLISH
X-WR-CALNAME:Skeivå - Rogaland Pride
X-ORIGINAL-URL:https://skeiva.no
X-WR-CALDESC:Arrangement for Skeivå - Rogaland Pride
REFRESH-INTERVAL;VALUE=DURATION:PT1H
X-Robots-Tag:noindex
X-PUBLISHED-TTL:PT1H
BEGIN:VTIMEZONE
TZID:Europe/Oslo
BEGIN:DAYLIGHT
TZOFFSETFROM:+0100
TZOFFSETTO:+0200
TZNAME:CEST
DTSTART:20250330T010000
END:DAYLIGHT
BEGIN:STANDARD
TZOFFSETFROM:+0200
TZOFFSETTO:+0100
TZNAME:CET
DTSTART:20251026T010000
END:STANDARD
BEGIN:DAYLIGHT
TZOFFSETFROM:+0100
TZOFFSETTO:+0200
TZNAME:CEST
DTSTART:20260329T010000
END:DAYLIGHT
BEGIN:STANDARD
TZOFFSETFROM:+0200
TZOFFSETTO:+0100
TZNAME:CET
DTSTART:20261025T010000
END:STANDARD
BEGIN:DAYLIGHT
TZOFFSETFROM:+0100
TZOFFSETTO:+0200
TZNAME:CEST
DTSTART:20270328T010000
END:DAYLIGHT
BEGIN:STANDARD
TZOFFSETFROM:+0200
TZOFFSETTO:+0100
TZNAME:CET
DTSTART:20271031T010000
END:STANDARD
END:VTIMEZONE
BEGIN:VEVENT
DTSTART;TZID=Europe/Oslo:20260905T120000
DTEND;TZID=Europe/Oslo:20260905T140000
DTSTAMP:20260423T050326
CREATED:20260209T205025Z
LAST-MODIFIED:20260209T205347Z
UID:81061-1788609600-1788616800@skeiva.no
SUMMARY:PRIDE PARADE 2026
DESCRIPTION:Årets fineste lørdag skjer 5. september på torget og Tou Scene i Stavanger.\n\n\nTidspunktene:\n\nOppstilling: 12.00\nAvgang: 13.00\n\n\nSå puss skoene\, grav frem paljettene og kost sammen glitteret og gjør deg klar til å feire igjennom gatene i Stavanger.\n\n\n\nRute:\nParaden starter på torget\, går bortover skagenkaien\, igjennom fargegaten\, gjennom pedersgata og avslutter i Pride Park på Tou scene. Kart kommer\n\nParadefest:Pride Park på Tou scene i Stavanger. Det blir taler\, show og musikk. \n\nPåmelding:Det er BARE organisasjoner\, bedrifter\, partier og andre større grupper med egne paroler som trenger å melde seg på. (Frist 24. august). Påmeldte etter det vil bli lagt til bakerst på paraden.\nFor alle andre er det bare å møte opp!\nKontakt: cecilie@skeiva.no\n\n\n\nEtter paraden og paradeshowet\, avslutter vi festivalen med vår fantastiske avslutningsfest skeiva nattå! \n\n\n(English)\n\n_________________________________\n\n\n\n\n\n\n\n\nThe most beautiful Saturday of the year takes place on September 5th at Torget and Tou Scene in Stavanger. \n\nTidspunktene:\n\nAssemply: 12.00\nDeparture: 13.00\n\nSo polish your shoes\, dig out the sequins\, gather the glitter\, and get ready to celebrate through the streets of Stavanger. \nRoute:The parade starts at the square\, goes along Skagenkaien\, through Fargegaten\, through Pedersgata\, and finishes in Pride Park at Tou Scene. Map coming soon. \nParade party:Pride Parc at Tou Scene in Stavanger. There will be speeches\, shows\, and music. \nRegistration:ONLY organizations\, companies\, parties\, and other larger groups with their own slogans need to register. (Deadline August 24). Registrations after the deadline will be placed at the end of the parade.For everyone else\, just show up! \nContact: cecilie@skeiva.no \n  \nAfter the parade and parade show in Pride Park\, we will end the festival with our amazing closing party skeiva nattå!
URL:https://skeiva.no/program/pride-parade-2026/
END:VEVENT
END:VCALENDAR