BEGIN:VCALENDAR
VERSION:2.0
PRODID:-//Skeivå - Rogaland Pride - ECPv6.15.17.1//NONSGML v1.0//EN
CALSCALE:GREGORIAN
METHOD:PUBLISH
X-ORIGINAL-URL:https://skeiva.no
X-WR-CALDESC:Arrangement for Skeivå - Rogaland Pride
REFRESH-INTERVAL;VALUE=DURATION:PT1H
X-Robots-Tag:noindex
X-PUBLISHED-TTL:PT1H
BEGIN:VTIMEZONE
TZID:Europe/Oslo
BEGIN:DAYLIGHT
TZOFFSETFROM:+0100
TZOFFSETTO:+0200
TZNAME:CEST
DTSTART:20240331T010000
END:DAYLIGHT
BEGIN:STANDARD
TZOFFSETFROM:+0200
TZOFFSETTO:+0100
TZNAME:CET
DTSTART:20241027T010000
END:STANDARD
BEGIN:DAYLIGHT
TZOFFSETFROM:+0100
TZOFFSETTO:+0200
TZNAME:CEST
DTSTART:20250330T010000
END:DAYLIGHT
BEGIN:STANDARD
TZOFFSETFROM:+0200
TZOFFSETTO:+0100
TZNAME:CET
DTSTART:20251026T010000
END:STANDARD
BEGIN:DAYLIGHT
TZOFFSETFROM:+0100
TZOFFSETTO:+0200
TZNAME:CEST
DTSTART:20260329T010000
END:DAYLIGHT
BEGIN:STANDARD
TZOFFSETFROM:+0200
TZOFFSETTO:+0100
TZNAME:CET
DTSTART:20261025T010000
END:STANDARD
END:VTIMEZONE
BEGIN:VEVENT
DTSTART;TZID=Europe/Oslo:20250905T150000
DTEND;TZID=Europe/Oslo:20250905T230000
DTSTAMP:20260420T120634
CREATED:20250809T124300Z
LAST-MODIFIED:20250831T102247Z
UID:80828-1757084400-1757113200@skeiva.no
SUMMARY:Pride Park
DESCRIPTION:Pride Park åpner fredag 5. september klokken 15.00 på Tou Scene med god stemning\, musikk\, fine folk\, og masse spennende på programmet! Det blir blant annet musikkbingo med Mio\, og politisk debatt. Fredagen før stortingsvalget spør vi partiene hva de gjør og vil gjøre for skeive. \nFRI Rogaland og Skeivå åpner Pride-butikken med salg av flagg og sminke så du er klar for paraden lørdag. \n \nDJ Austinat kommer endelig til Stavanger og Skeivå 2025! \nMartine Hammervold-Austinat aka dj Austinat hadde sin første gig med det lesbiske klubbkonseptet DRAMAqueen i mai 2018 og har siden reist landet rundt med dj-duoen med samme navn. \nHun har blant annet spilt på Salt\, Brød & Sirkus\, Storgata 26 og Pride i Stockholm\, Oslo\, Trondheim\, Bergen\, Namsos\, på Røros\, Kyrksæterøra\, i Drammen\, Harstad og Kirkenes. Hun er også fast inventar på Elsker i Oslo og har spilt på Vinjerock i Jotunheimen. \nHun har markert seg som en dj med USB-en full av guilty pleasures\, hits\, r&b og pop med en forkjærlighet for disco og egentlig alt med digg bass. \nAustinat spiller låtene du trodde du hadde glemt\, remixene du ikke forventer og får dansegulvet til å koke hele natta. \n \nTAYKA er en ung artist som blander sammen sjangere av rnb\, hiphop og rap. Hennes unike talent gir deg autentisk norsk og engelsk musikk som får deg til å tenke\, hoppe og ikke minst danse. Hennes råe scenetekke og eksentriske musikk får deg opp på dansegulvet\, og hun er tilbake igjen på Tou scene. Med sang og rap skal hun og dansere gi deg et show du sent vil glemme. \nKlokken 22.00 blir det Latter på Skeivå\, vårt eget standupshow i Maskinhallen! Dørene åpner 22.00 og showstart er 22.30. \nBilletter til Latter på Skeivå får du kjøpt her! 
URL:https://skeiva.no/program/pride-park/
LOCATION:Tou Scene\, Kvitsøygata 25\, Stavanger\, 4014
CATEGORIES:Pride Park
ATTACH;FMTTYPE=image/jpeg:https://skeiva.no/wp-content/uploads/2025/08/25C593CC-1D3E-4954-B7EF-E0E58177804F.jpeg
END:VEVENT
END:VCALENDAR