BEGIN:VCALENDAR
VERSION:2.0
PRODID:-//Skeivå - Rogaland Pride - ECPv6.15.17.1//NONSGML v1.0//EN
CALSCALE:GREGORIAN
METHOD:PUBLISH
X-WR-CALNAME:Skeivå - Rogaland Pride
X-ORIGINAL-URL:https://skeiva.no
X-WR-CALDESC:Arrangement for Skeivå - Rogaland Pride
REFRESH-INTERVAL;VALUE=DURATION:PT1H
X-Robots-Tag:noindex
X-PUBLISHED-TTL:PT1H
BEGIN:VTIMEZONE
TZID:Europe/Oslo
BEGIN:DAYLIGHT
TZOFFSETFROM:+0100
TZOFFSETTO:+0200
TZNAME:CEST
DTSTART:20240331T010000
END:DAYLIGHT
BEGIN:STANDARD
TZOFFSETFROM:+0200
TZOFFSETTO:+0100
TZNAME:CET
DTSTART:20241027T010000
END:STANDARD
BEGIN:DAYLIGHT
TZOFFSETFROM:+0100
TZOFFSETTO:+0200
TZNAME:CEST
DTSTART:20250330T010000
END:DAYLIGHT
BEGIN:STANDARD
TZOFFSETFROM:+0200
TZOFFSETTO:+0100
TZNAME:CET
DTSTART:20251026T010000
END:STANDARD
BEGIN:DAYLIGHT
TZOFFSETFROM:+0100
TZOFFSETTO:+0200
TZNAME:CEST
DTSTART:20260329T010000
END:DAYLIGHT
BEGIN:STANDARD
TZOFFSETFROM:+0200
TZOFFSETTO:+0100
TZNAME:CET
DTSTART:20261025T010000
END:STANDARD
END:VTIMEZONE
BEGIN:VEVENT
DTSTART;TZID=Europe/Oslo:20250906T140000
DTEND;TZID=Europe/Oslo:20250906T173000
DTSTAMP:20260420T102754
CREATED:20250809T124428Z
LAST-MODIFIED:20250831T101627Z
UID:80831-1757167200-1757179800@skeiva.no
SUMMARY:Paradeshow
DESCRIPTION:Vi inviterer til et forrykende paradeshow på Tou Scene! \nVi fyller området rundt Tou Scene med regnbuer\, glitter\, glede\, flagg og samhold. Det blir taler fra ordfører i Stavanger Tormod W. Losnedal\, festivalsjefen i Skeivå André Botterli Trætnes og leder av FRI Rogaland Pål Louis Kaupang Rasmussen. Vi skal også dele ut Homofrydprisen. Dette blir en fest av et show du ikke kan gå glipp av! \nShowet starter så snart paraden ankommer Tou Scene\, cirka klokken 14.00. \nArtister\nFoto: Pia Rothmann\nMimi Devine – sassy\, sharp\, and single (ready to mingle )! Former Carte Blanche dancer turned drag sensation\, Mimi took TikTok by storm during lockdown and never looked back. With big hair\, bigger attitude\, and shows that spill ALL the tea\, she’s here to serve glamour\, drama\, and a whole lot of love at Skeivå – Rogaland Pride! \n  \nFoto: Dani Cruzobi\n\ndear jonah – After making a name for himself as Jonahh—with four songs in rotation on NRK P3 and six tracks recommended by the Urørt editorial team—dear jonah is stepping into a new era and evolving into the artist he was always meant to be. Since 2021\, deae jonah has immersed himself in the songwriting and production world\, surrounding himself with inspirational producers and songwriters to refine his craft. He released a steady stream of music under Jonahh\, but within last year – a lot has changed. Finding the producers he truly wanted to collaborate with\, he found his musical language—a defining sound that now shapes his upcoming album\, »seasons changing».\n\nA new name signifies a new chapter\, while still honoring the steps it took to get there. As of 2025\, Jonahh has become dear jonah.\nWith performances at multiple Nordic festivals like Mablis\, Capella Party\, Rogaland Pride\, Utopia and Sørveiv and a track record of sharing the stage with Isah\, Kapteinen\, and Sløtface\, dear jonah is no stranger to the live scene. He opened for Chris Abolade in Folken in Stavanger in 2023\, and had a solo show in December 2024 at Checkpoint Charlie. Having previously worked with the Danish label\, Nordic Music Society\, he is now moving forward independently\, fully in control of his artistic vision.\n\n  \n \nDJ Austinat kommer endelig til Stavanger og Skeivå 2025! \nMartine Hammervold-Austinat aka dj Austinat hadde sin første gig med det lesbiske klubbkonseptet DRAMAqueen i mai 2018 og har siden reist landet rundt med dj-duoen med samme navn. \nHun har blant annet spilt på Salt\, Brød & Sirkus\, Storgata 26 og Pride i Stockholm\, Oslo\, Trondheim\, Bergen\, Namsos\, på Røros\, Kyrksæterøra\, i Drammen\, Harstad og Kirkenes. Hun er også fast inventar på Elsker i Oslo og har spilt på Vinjerock i Jotunheimen. \nHun har markert seg som en dj med USB-en full av guilty pleasures\, hits\, r&b og pop med en forkjærlighet for disco og egentlig alt med digg bass. \nAustinat spiller låtene du trodde du hadde glemt\, remixene du ikke forventer og får dansegulvet til å koke! \n  \nFoto: @handerfotografen\nMina My er artistnavnet til Mina Cecilie Klasson\, en singer/songwriter fra Stavanger. \n\n\nMina My skriver emosjonelle tekster og håper de som hører på kan kjenne seg igjen i dem. Intim vokal med drømmende gitarer. Mina er inspirert av Dodie\, Arlo Parks\, Sufjan Stevens\, Girl In Red og Orla Gartland. Tekstene handler om kjærlighet \,forhold\, feminisme og klimaangst. Artistnavnet stammer fra Mummi-figuren «Lille My». \nMina My står på scenen på lørdag under Paradeshowet på Tou Scene! \n 
URL:https://skeiva.no/program/parade-show/
LOCATION:Tou Scene\, Kvitsøygata 25\, Stavanger\, 4014
CATEGORIES:Pride Park
ATTACH;FMTTYPE=image/jpeg:https://skeiva.no/wp-content/uploads/2025/08/88961C97-037F-4E31-B89C-BA121CEE9F47.jpeg
END:VEVENT
END:VCALENDAR